BEGIN:VCALENDAR
VERSION:2.0
PRODID:-//Tukios.com/
BEGIN:VEVENT
UID:4b68704a-aaff-44be-87a7-1fb93c9b7526@www.lbvfh.com
DTSTAMP:20260422T222022Z
DTSTART:20260427T180000Z
DTEND:20260427T190000Z
SUMMARY:Visitation
DESCRIPTION:
URL:https://www.lbvfh.com/obituaries/beverly-dack
LOCATION:Butler Volland Chapel 1225 N Elm Ave  Hastings NE 68901
GEO:40.5976102;-98.3741436
END:VEVENT
END:VCALENDAR