BEGIN:VCALENDAR
VERSION:2.0
PRODID:-//Tukios.com/
BEGIN:VEVENT
UID:0cdd52e5-73db-4667-ac9f-67438f15d6d9@www.lbvfh.com
DTSTAMP:20260422T222328Z
DTSTART:20260427T190000Z
DTEND:20260427T200000Z
SUMMARY:Funeral Service
DESCRIPTION:
URL:https://www.lbvfh.com/obituaries/beverly-dack
LOCATION: 1225 N Elm Ave  Hastings NE 68901
GEO:40.5976102;-98.3741436
END:VEVENT
END:VCALENDAR