BEGIN:VCALENDAR
VERSION:2.0
PRODID:-//Tukios.com/
BEGIN:VEVENT
UID:36eb217b-16b2-454b-9a3e-a34fe96fd7b2@www.lbvfh.com
DTSTAMP:20260421T174612Z
DTSTART:20260424T180000Z
DTEND:20260425T000000Z
SUMMARY:Visitation
DESCRIPTION:Family Present from 5-7 p.m.
URL:https://www.lbvfh.com/obituaries/david-bruntz
LOCATION: 1225 N. Elm Street  Hastings NE 68901
GEO:40.5975906;-98.3741467
END:VEVENT
END:VCALENDAR