BEGIN:VCALENDAR
VERSION:2.0
PRODID:-//Tukios.com/
BEGIN:VEVENT
UID:d9f3e4aa-e895-472c-8a2c-09752c602f48@www.lbvfh.com
DTSTAMP:20260421T174210Z
DTSTART:20260425T153000Z
DTEND:20260425T163000Z
SUMMARY:Funeral Service
DESCRIPTION:
URL:https://www.lbvfh.com/obituaries/david-bruntz
LOCATION: 501 N Burlington Ave  Hastings NE 68901
GEO:40.5880177;-98.3926312
END:VEVENT
END:VCALENDAR